BEGIN:VCALENDAR
VERSION:2.0
PRODID:-//Friends of the Domaine de Chantilly - ECPv5.7.0//NONSGML v1.0//EN
CALSCALE:GREGORIAN
METHOD:PUBLISH
X-WR-CALNAME:Friends of the Domaine de Chantilly
X-ORIGINAL-URL:https://fodchantilly.org
X-WR-CALDESC:Events for Friends of the Domaine de Chantilly
BEGIN:VTIMEZONE
TZID:UTC
BEGIN:STANDARD
TZOFFSETFROM:+0000
TZOFFSETTO:+0000
TZNAME:UTC
DTSTART:20160101T000000
END:STANDARD
END:VTIMEZONE
BEGIN:VEVENT
DTSTART;VALUE=DATE:20160916
DTEND;VALUE=DATE:20160919
DTSTAMP:20260424T152912
CREATED:20160310T203422Z
LAST-MODIFIED:20160811T222142Z
UID:187-1473984000-1474243199@fodchantilly.org
SUMMARY:The Millenium European Paintball Series World Championship
DESCRIPTION:Final contest of Millenium European Paintball Series
URL:https://fodchantilly.org/event/the-millenium-european-paintball-series-world-championship/
CATEGORIES:Sporting Events
END:VEVENT
END:VCALENDAR