BEGIN:VCALENDAR
VERSION:2.0
PRODID:-//Friends of the Domaine de Chantilly - ECPv5.7.0//NONSGML v1.0//EN
CALSCALE:GREGORIAN
METHOD:PUBLISH
X-WR-CALNAME:Friends of the Domaine de Chantilly
X-ORIGINAL-URL:https://fodchantilly.org
X-WR-CALDESC:Events for Friends of the Domaine de Chantilly
BEGIN:VTIMEZONE
TZID:UTC
BEGIN:STANDARD
TZOFFSETFROM:+0000
TZOFFSETTO:+0000
TZNAME:UTC
DTSTART:20220101T000000
END:STANDARD
END:VTIMEZONE
BEGIN:VEVENT
DTSTART;VALUE=DATE:20221004
DTEND;VALUE=DATE:20230201
DTSTAMP:20260421T101357
CREATED:20220406T175308Z
LAST-MODIFIED:20220406T175308Z
UID:4244-1664841600-1675209599@fodchantilly.org
SUMMARY:La création du Cabinet des livres. Hommage au duc d’Aumale
DESCRIPTION:
URL:https://fodchantilly.org/event/la-creation-du-cabinet-des-livres-hommage-au-duc-daumale/
CATEGORIES:Exhibitions
END:VEVENT
END:VCALENDAR