BEGIN:VCALENDAR
VERSION:2.0
PRODID:-//Friends of the Domaine de Chantilly - ECPv5.7.0//NONSGML v1.0//EN
CALSCALE:GREGORIAN
METHOD:PUBLISH
X-WR-CALNAME:Friends of the Domaine de Chantilly
X-ORIGINAL-URL:https://fodchantilly.org
X-WR-CALDESC:Events for Friends of the Domaine de Chantilly
BEGIN:VTIMEZONE
TZID:UTC
BEGIN:STANDARD
TZOFFSETFROM:+0000
TZOFFSETTO:+0000
TZNAME:UTC
DTSTART:20160101T000000
END:STANDARD
END:VTIMEZONE
BEGIN:VEVENT
DTSTART;VALUE=DATE:20160910
DTEND;VALUE=DATE:20160911
DTSTAMP:20260424T170042
CREATED:20170114T000404Z
LAST-MODIFIED:20170114T001133Z
UID:1444-1473465600-1473551999@fodchantilly.org
SUMMARY:FODC Private Viewing & Rustic Luncheon
DESCRIPTION:FODC hosted a memorable day at Chantilly\, one of the most magnificent French heritage sites\, located just 25 miles north of Paris. Prince Amyn Aga Khan\, Chairman of FODC\, welcomed guests from both sides of the Atlantic\, including more than 60 of the most prominent art collectors\, garden lovers\, and Francophiles. Following a curator led-visit of the exceptional collections and special exhibition “Le Grand Condé: Rival of the Sun King?” the group was invited to adjourn for lunch at the Hameau\, the rustic retreat that inspired Queen Marie-Antoinette at Versailles. \nSee pictures and read more about this event
URL:https://fodchantilly.org/event/fodc-viewing-luncheon/
CATEGORIES:Special Events
ATTACH;FMTTYPE=image/jpeg:https://fodchantilly.org/wp-content/uploads/FODC_Picture-1-1-e1484352676840.jpg
END:VEVENT
END:VCALENDAR