BEGIN:VCALENDAR
VERSION:2.0
PRODID:-//Friends of the Domaine de Chantilly - ECPv5.7.0//NONSGML v1.0//EN
CALSCALE:GREGORIAN
METHOD:PUBLISH
X-WR-CALNAME:Friends of the Domaine de Chantilly
X-ORIGINAL-URL:https://fodchantilly.org
X-WR-CALDESC:Events for Friends of the Domaine de Chantilly
BEGIN:VTIMEZONE
TZID:UTC
BEGIN:STANDARD
TZOFFSETFROM:+0000
TZOFFSETTO:+0000
TZNAME:UTC
DTSTART:20160101T000000
END:STANDARD
END:VTIMEZONE
BEGIN:VEVENT
DTSTART;VALUE=DATE:20161126
DTEND;VALUE=DATE:20170103
DTSTAMP:20260424T123346
CREATED:20160310T203713Z
LAST-MODIFIED:20161221T215147Z
UID:189-1480118400-1483401599@fodchantilly.org
SUMMARY:Christmas Horse Show: Peau d'Âne
DESCRIPTION:For the end-of-year festive season\, a beloved Christmas fairy-tale is specially adapted and staged. Let yourself be transported to the land of dreams and legends – discover this year’s Christmas show\, “Peau d’Âne”\, beneath the majestic dome of the Great Stables of Chantilly! \nFor more information and performance schedule
URL:https://fodchantilly.org/event/christmas-horse-show/
CATEGORIES:Equestrian Performances
ATTACH;FMTTYPE=image/jpeg:https://fodchantilly.org/wp-content/uploads/Peau-d-ane-featured.jpg
END:VEVENT
END:VCALENDAR